BEGIN:VCALENDAR
VERSION:2.0
PRODID:-//Physics Busking - ECPv4.6.23//NONSGML v1.0//EN
CALSCALE:GREGORIAN
METHOD:PUBLISH
X-WR-CALNAME:Physics Busking
X-ORIGINAL-URL:http://physicsbusking.ie
X-WR-CALDESC:Events for Physics Busking
BEGIN:VEVENT
DTSTART;VALUE=DATE:20160604
DTEND;VALUE=DATE:20160606
DTSTAMP:20260422T010435
CREATED:20160622T104758Z
LAST-MODIFIED:20160622T104758Z
UID:456-1464998400-1465171199@physicsbusking.ie
SUMMARY:Bloom 2016
DESCRIPTION:Brought to you by @Bordbia\, #Bloom is Ireland’s largest family\, food and gardening festival. This year the festival will run for four-days over the June Bank Holiday weekend in the fine surroundings of the Phoenix Park.  Seeing as we had so much fun there last year\, we could not resist but head along again on Saturday 4th and Sunday 5th June to have some super family fun amongst the super gardens. \nShare this:Click to share on Facebook (Opens in new window)Click to share on Twitter (Opens in new window)Click to share on Google+ (Opens in new window)Click to print (Opens in new window)
URL:http://physicsbusking.ie/event/bloom-2016/
LOCATION:Phoenix Park\, Phoenix Park\, Dublin\, Ireland
ATTACH;FMTTYPE=image/png:http://physicsbusking.ie/wp-content/uploads/2016/02/logo_home.png
END:VEVENT
END:VCALENDAR