BEGIN:VCALENDAR
VERSION:2.0
PRODID:-//Physics Busking - ECPv4.6.23//NONSGML v1.0//EN
CALSCALE:GREGORIAN
METHOD:PUBLISH
X-WR-CALNAME:Physics Busking
X-ORIGINAL-URL:http://physicsbusking.ie
X-WR-CALDESC:Events for Physics Busking
BEGIN:VEVENT
DTSTART;VALUE=DATE:20160618
DTEND;VALUE=DATE:20160619
DTSTAMP:20260424T090906
CREATED:20160622T103956Z
LAST-MODIFIED:20160622T104104Z
UID:451-1466208000-1466294399@physicsbusking.ie
SUMMARY:Coderdojo
DESCRIPTION:Yes we’re heading back to the RDS for the second ever CoderDojo Coolest Projects Awards. \nLast year saw 500 projects from CoderDojo youth from across Europe with 5\,000 attendees on the day! This years event will be even bigger! – and Physics Buskers will be there in force with add some scientific savvy to the affair! For more details check out the CoderDojo website.\n \nShare this:Click to share on Facebook (Opens in new window)Click to share on Twitter (Opens in new window)Click to share on Google+ (Opens in new window)Click to print (Opens in new window)
URL:http://physicsbusking.ie/event/coderdojo/
LOCATION:RDS\, Anglesea Rd\, Dublin 4\, Ireland
ATTACH;FMTTYPE=image/png:http://physicsbusking.ie/wp-content/uploads/2016/06/YoungCoolestProjectAwards-1-e1416572701242.png
END:VEVENT
END:VCALENDAR